Workbook
Name Alta_Dirección: [1]TB!$B$11:$B$13
Name Alta_Dirección: [1]TB!$B$11:$B$13
Name Alta_Dirección: [1]TB!$B$11:$B$13
Name Alta_Dirección: [1]TB!$B$11:$B$13
Name Alta_Dirección: [1]TB!$B$11:$B$13
Name Alta_Dirección: [1]TB!$B$11:$B$13
Name Alta_Dirección: [1]TB!$B$11:$B$13
Name Alta_Dirección: [1]TB!$B$11:$B$13
Name Alta_Dirección: [1]TB!$B$11:$B$13
Name Alta_Dirección: [1]TB!$B$11:$B$13
Name Alta_Dirección: [1]TB!$B$11:$B$13
Name Alta_Dirección: [1]TB!$B$11:$B$13
Name Alta_Dirección: [2]TB!$B$11:$B$13
Name Alta_Dirección: TB!$B$11:$B$13
Name Área: [1]TB!$B$34:$B$84
Name Área: [1]TB!$B$34:$B$84
Name Área: [1]TB!$B$34:$B$84
Name Área: [1]TB!$B$34:$B$84
Name Área: [1]TB!$B$34:$B$84
Name Área: [1]TB!$B$34:$B$84
Name Área: [1]TB!$B$34:$B$84
Name Área: [1]TB!$B$34:$B$84
Name Área: [1]TB!$B$34:$B$84
Name Área: [1]TB!$B$34:$B$84
Name Área: [1]TB!$B$34:$B$84
Name Área: [1]TB!$B$34:$B$84
Name Área: [2]TB!$B$34:$B$84
Name Área: TB!$B$34:$B$84
Name Categoría: [1]TB!$B$17:$B$19
Name Categoría: [1]TB!$B$17:$B$19
Name Categoría: [1]TB!$B$17:$B$19
Name Categoría: [1]TB!$B$17:$B$19
Name Categoría: [1]TB!$B$17:$B$19
Name Categoría: [1]TB!$B$17:$B$19
Name Categoría: [1]TB!$B$17:$B$19
Name Categoría: [1]TB!$B$17:$B$19
Name Categoría: [1]TB!$B$17:$B$19
Name Categoría: [1]TB!$B$17:$B$19
Name Categoría: [1]TB!$B$17:$B$19
Name Categoría: [1]TB!$B$17:$B$19
Name Categoría: [2]TB!$B$17:$B$19
Name Categoría: TB!$B$17:$B$19
Name Cumplimiento: [1]TB!$B$22:$B$25
Name Cumplimiento: [1]TB!$B$22:$B$25
Name Cumplimiento: [1]TB!$B$22:$B$25
Name Cumplimiento: [1]TB!$B$22:$B$25
Name Cumplimiento: [1]TB!$B$22:$B$25
Name Cumplimiento: [1]TB!$B$22:$B$25
Name Cumplimiento: [1]TB!$B$22:$B$25
Name Cumplimiento: [1]TB!$B$22:$B$25
Name Cumplimiento: [1]TB!$B$22:$B$25
Name Cumplimiento: [1]TB!$B$22:$B$25
Name Cumplimiento: [1]TB!$B$22:$B$25
Name Cumplimiento: [1]TB!$B$22:$B$25
Name Cumplimiento: [2]TB!$B$22:$B$25
Name Cumplimiento: TB!$B$22:$B$25
Name Frentes: [1]TB!$B$4:$B$8
Name Frentes: [1]TB!$B$4:$B$8
Name Frentes: [1]TB!$B$4:$B$8
Name Frentes: [1]TB!$B$4:$B$8

Sheet Contenido
D2: MACROPROCESO ESTRATÉGICO | T2: CÓDIGO: EPIr049
D4: PROCESO GESTIÓN PLANEACIÓN INSTITUCIONAL | T4: VERSIÓN: 9
D6: PLAN DE ACCIÓN | T6: VIGENCIA: 2024-04-08
T7: PÁGINA: 1 de 58
B8: 13.
C10: Vigencia del Plan de Acción: | D10: 0 | P10: Fecha de Publicación: | S10: DD/MM/AAAA | T10: Estadística
C11: Versión: | D11: 0
B13: 1 | C13: Secretaría General | E13: 1T | F13: 2T | G13: 3T | H13: 4T | J13: 2 | K13: Vicerrectoría Académica | M13: 1T | N13: 2T | O13: 3T | P13: 4T | R13: 3 | S13: Vicerrectoría Administrativa y Finananciera | U13: 1T | V13: 2T | W13: 3T | X13: 4T
E14: =#REF! -> #REF! | F14: =#REF! -> #REF! | G14: =#REF! -> #REF! | H14: =#REF! -> #REF! | M14: ='2'!$I$9 -> 0 | N14: ='2'!$I$10 -> 0.33333333 | O14: ='2'!$I$11 -> 0 | P14: ='2'!$I$12 -> 0 | U14: ='3'!$I$9 -> 0.33333333 | V14: ='3'!$I$10 -> 0 | W14: ='3'!$I$11 -> 0 | X14: ='3'!$I$12 -> 1
B15: 1.1 | C15: Dirección Jurídica | E15: =#REF! -> #REF! | F15: =#REF! -> #REF! | G15: =#REF! -> #REF! | H15: =#REF! -> #REF! | J15: 2.1 | K15: Facultad de Ciencias Administrativas, Económicas y Contables | M15: ='2.1'!$I$9 -> 0.33333333 | N15: ='2.1'!$I$10 -> 0 | O15: ='2.1'!$I$11 -> 0.33333333 | P15: ='2.1'!$I$12 -> 1 | R15: 3.1 | S15: Dirección Administrativa de la Seccional Girardot | U15: ='3.1'!$I$9 -> 1 | V15: ='3.1'!$I$10 -> 1.3333333 | W15: ='3.1'!$I$11 -> 2 | X15: ='3.1'!$I$12 -> 8
B16: 1.2 | C16: Dirección de Planeación Institucional | E16: =#REF! -> #REF! | F16: =#REF! -> #REF! | G16: =#REF! -> #REF! | H16: =#REF! -> #REF! | J16: 2.2 | K16: Facultad de Ciencias Agropecuarias | M16: =#REF! -> #REF! | N16: =#REF! -> #REF! | O16: =#REF! -> #REF! | P16: =#REF! -> #REF! | R16: 3.2 | S16: Dirección Administrativa de la Seccional Ubaté | U16: ='3.2'!$I$9 -> 0 | V16: ='3.2'!$I$10 -> 0 | W16: ='3.2'!$I$11 -> 0 | X16: ='3.2'!$I$12 -> 0
B17: 1.3 | C17: Dirección de Sistemas y Tecnología | E17: =#REF! -> #REF! | F17: =#REF! -> #REF! | G17: =#REF! -> #REF! | H17: =#REF! -> #REF! | J17: 2.3 | K17: Facultad de Ingeniería | M17: ='2.3'!$I$9 -> 0 | N17: ='2.3'!$I$10 -> 0 | O17: ='2.3'!$I$11 -> 0 | P17: ='2.3'!$I$12 -> 0 | R17: 3.3 | S17: Dirección Administrativa de la Extensión Facatativá | U17: ='3.3'!$I$9 -> 0 | V17: ='3.3'!$I$10 -> 0 | W17: ='3.3'!$I$11 -> 0 | X17: ='3.3'!$I$12 -> 0
B18: 1.4 | C18: Dirección de Proyectos Especiales y Relaciones Interinstitucionales | E18: =#REF! -> #REF! | F18: =#REF! -> #REF! | G18: =#REF! -> #REF! | H18: =#REF! -> #REF! | J18: 2.4 | K18: Facultad de Ciencias de la Salud | M18: ='2.4'!$I$9 -> 0 | N18: ='2.4'!$I$10 -> 0 | O18: ='2.4'!$I$11 -> 0 | P18: ='2.4'!$I$12 -> 0 | R18: 3.4 | S18: Dirección Administrativa de la Extensión Soacha | U18: ='3.4'!$I$9 -> 0 | V18: ='3.4'!$I$10 -> 0 | W18: ='3.4'!$I$11 -> 0 | X18: ='3.4'!$I$12 -> 0
B19: 1.5 | C19: Oficina de Admisiones y Registro | E19: =#REF! -> #REF! | F19: =#REF! -> #REF! | G19: =#REF! -> #REF! | H19: =#REF! -> #REF! | J19: 2.5 | K19: Facultad de Ciencias del Deporte y la Educación Física | M19: ='2.5'!$I$9 -> 0 | N19: ='2.5'!$I$10 -> 0 | O19: ='2.5'!$I$11 -> 0 | P19: ='2.5'!$I$12 -> 0 | R19: 3.5 | S19: Dirección Administrativa de la Extensión Chía | U19: ='3.5'!$I$9 -> 0 | V19: ='3.5'!$I$10 -> 0 | W19: ='3.5'!$I$11 -> 0 | X19: ='3.5'!$I$12 -> 0
B20: 1.6 | C20: Oficina Asesora de Comunicaciones | E20: =#REF! -> #REF! | F20: =#REF! -> #REF! | G20: =#REF! -> #REF! | H20: =#REF! -> #REF! | J20: 2.6 | K20: Facultad de Educación y Facultad de Ciencias Sociales, Humanidades y Ciencias Políticas | M20: ='2.6'!$I$9 -> 0 | N20: ='2.6'!$I$10 -> 0 | O20: ='2.6'!$I$11 -> 0 | P20: ='2.6'!$I$12 -> 0 | R20: 3.6 | S20: Dirección Administrativa de la Extensión Zipaquirá | U20: ='3.6'!$I$9 -> 0 | V20: ='3.6'!$I$10 -> 0 | W20: ='3.6'!$I$11 -> 0 | X20: ='3.6'!$I$12 -> 0
B21: 1.7 | C21: Oficina de Archivo y Correspondencia | E21: =#REF! -> #REF! | F21: =#REF! -> #REF! | G21: =#REF! -> #REF! | H21: =#REF! -> #REF! | J21: 2.7 | K21: Facultad de Educación | M21: ='2.7'!$I$9 -> 0 | N21: ='2.7'!$I$10 -> 0 | O21: ='2.7'!$I$11 -> 0 | P21: ='2.7'!$I$12 -> 0 | R21: 3.7 | S21: Dirección de Talento Humano | U21: ='3.7'!$I$9 -> 0 | V21: ='3.7'!$I$10 -> 0 | W21: ='3.7'!$I$11 -> 0 | X21: ='3.7'!$I$12 -> 0
B22: 1.8 | C22: Oficina de Atención al Ciudadano | E22: =#REF! -> #REF! | F22: =#REF! -> #REF! | G22: =#REF! -> #REF! | H22: =#REF! -> #REF! | J22: 2.8 | K22: Dirección de Interacción Social Universitaria | M22: ='2.8'!$I$9 -> 0 | N22: ='2.8'!$I$10 -> 0 | O22: ='2.8'!$I$11 -> 0 | P22: ='2.8'!$I$12 -> 0 | R22: 3.8 | S22: Dirección de Bienes y Servicios | U22: ='3.8'!$I$9 -> 0 | V22: ='3.8'!$I$10 -> 0 | W22: ='3.8'!$I$11 -> 0 | X22: ='3.8'!$I$12 -> 0
B23: 1.9 | C23: Sistema de Gestión de Seguridad de la Información | E23: =#REF! -> #REF! | F23: =#REF! -> #REF! | G23: =#REF! -> #REF! | H23: =#REF! -> #REF! | J23: 2.9 | K23: Dirección de Investigación Universitaria | M23: ='2.9'!$I$9 -> 0 | N23: ='2.9'!$I$10 -> 0 | O23: ='2.9'!$I$11 -> 0 | P23: ='2.9'!$I$12 -> 0 | R23: 3.9 | S23: Dirección Financiera | U23: ='3.9'!$I$9 -> 0 | V23: ='3.9'!$I$10 -> 0 | W23: ='3.9'!$I$11 -> 0 | X23: ='3.9'!$I$12 -> 0
B24: 1.10 | C24: Sistema de Gestión de la Calidad | E24: =#REF! -> #REF! | F24: =#REF! -> #REF! | G24: =#REF! -> #REF! | H24: =#REF! -> #REF! | J24: 2.10 | K24: Dirección de Bienestar Universitario | M24: ='2.10'!$I$9 -> 0 | N24: ='2.10'!$I$10 -> 0 | O24: ='2.10'!$I$11 -> 0 | P24: ='2.10'!$I$12 -> 0 | R24: 3.10 | S24: Almacén | U24: ='3.10'!$I$9 -> 0 | V24: ='3.10'!$I$10 -> 0 | W24: ='3.10'!$I$11 -> 0 | X24: ='3.10'!$I$12 -> 0
B25: 1.11 | C25: Sistema de Gestión Ambiental | E25: =#REF! -> #REF! | F25: =#REF! -> #REF! | G25: =#REF! -> #REF! | H25: =#REF! -> #REF! | J25: 2.11 | K25: Dirección de Autoevaluación y Acreditación | M25: ='2.11'!$I$9 -> 0 | N25: ='2.11'!$I$10 -> 0 | O25: ='2.11'!$I$11 -> 0 | P25: ='2.11'!$I$12 -> 0 | R25: 3.11 | S25: Recursos Físicos y Servicios Generales | U25: ='3.11'!$I$9 -> 0 | V25: ='3.11'!$I$10 -> 0 | W25: ='3.11'!$I$11 -> 0 | X25: ='3.11'!$I$12 -> 0
J26: 2.12 | K26: Instituto de Posgrados | M26: ='2.12'!$I$9 -> 0 | N26: ='2.12'!$I$10 -> 0 | O26: ='2.12'!$I$11 -> 0 | P26: ='2.12'!$I$12 -> 0 | R26: 3.12 | S26: Sistema de Gestión de Seguridad y Salud en el Trabajo | U26: ='3.12'!$I$9 -> 0 | V26: ='3.12'!$I$10 -> 0 | W26: ='3.12'!$I$11 -> 0 | X26: ='3.12'!$I$12 -> 0
J27: 2.13 | K27: Unidad de Apoyo Académico | M27: ='2.13'!$I$9 -> 0 | N27: ='2.13'!$I$10 -> 0 | O27: ='2.13'!$I$11 -> 0 | P27: ='2.13'!$I$12 -> 0
J28: 2.14 | K28: Oficina de Desarrollo Académico | M28: ='2.14'!$I$9 -> 0 | N28: ='2.14'!$I$10 -> 0 | O28: ='2.14'!$I$11 -> 0 | P28: ='2.14'!$I$12 -> 0
J29: 2.15 | K29: Oficina de Educación Virtual y a Distancia | M29: ='2.15'!$I$9 -> 0 | N29: ='2.15'!$I$10 -> 0 | O29: ='2.15'!$I$11 -> 0 | P29: ='2.15'!$I$12 -> 0
J30: 2.16 | K30: Dialogando con el Mundo | M30: ='2.16'!$I$9 -> 0 | N30: ='2.16'!$I$10 -> 0 | O30: ='2.16'!$I$11 -> 0 | P30: ='2.16'!$I$12 -> 0
J31: 2.17 | K31: Escuela de Formación y Aprendizaje Docente (EFAD) | M31: ='2.17'!$I$9 -> 0 | N31: ='2.17'!$I$10 -> 0 | O31: ='2.17'!$I$11 -> 0 | P31: ='2.17'!$I$12 -> 0
J32: 2.18 | K32: Graduados | M32: ='2.18'!$I$9 -> 0 | N32: ='2.18'!$I$10 -> 0 | O32: ='2.18'!$I$11 -> 0 | P32: ='2.18'!$I$12 -> 0
J33: 2.19 | K33: Centro Académico Deportivo (CAD) | M33: ='2.19'!$I$9 -> 0 | N33: ='2.19'!$I$10 -> 0 | O33: ='2.19'!$I$11 -> 0 | P33: ='2.19'!$I$12 -> 0
J34: 2.20 | K34: Centro de Estudios Agroambientales | M34: ='2.20'!$I$9 -> 0 | N34: ='2.20'!$I$10 -> 0 | O34: ='2.20'!$I$11 -> 0 | P34: ='2.20'!$I$12 -> 0
J35: 2.21 | K35: Centro de Idiomas | M35: ='2.21'!$I$9 -> 0 | N35: ='2.21'!$I$10 -> 0 | O35: ='2.21'!$I$11 -> 0 | P35: ='2.21'!$I$12 -> 0
J36: 2.22 | K36: Centro Digital de Emprendimiento e Innovación (CDEI) | M36: ='2.22'!$I$9 -> 0 | N36: ='2.22'!$I$10 -> 0 | O36: ='2.22'!$I$11 -> 0 | P36: ='2.22'!$I$12 -> 0
J37: 2.23 | K37: Centro Transmedia | M37: ='2.23'!$I$9 -> 0 | N37: ='2.23'!$I$10 -> 0 | O37: ='2.23'!$I$11 -> 0 | P37: ='2.23'!$I$12 -> 0
J38: 2.24 | K38: Centro de Gestión del Conocimiento y el Aprendizaje (CGCA) | M38: ='2.24'!$I$9 -> 0 | N38: ='2.24'!$I$10 -> 0 | O38: ='2.24'!$I$11 -> 0 | P38: ='2.24'!$I$12 -> 0
J39: 2.25 | K39: Equidad y Diversidad | M39: ='2.25'!$I$9 -> 0 | N39: ='2.25'!$I$10 -> 0 | O39: ='2.25'!$I$11 -> 0 | P39: ='2.25'!$I$12 -> 0
J40: 2.26 | K40: Laboratorio de Innovación Social | M40: =#REF! -> #REF! | N40: =#REF! -> #REF! | O40: =#REF! -> #REF! | P40: =#REF! -> #REF!
J41: 2.27 | K41: Observatorio de Medios y Club de Lectura | M41: =#REF! -> #REF! | N41: =#REF! -> #REF! | O41: =#REF! -> #REF! | P41: =#REF! -> #REF!
J42: 2.28 | K42: Orlando Fals Borda | M42: =#REF! -> #REF! | N42: =#REF! -> #REF! | O42: =#REF! -> #REF! | P42: =#REF! -> #REF!
S45: Instrucciones para el diligenciamiento

Sheet Estadísticas
E2: MACROPROCESO ESTRATÉGICO | P2: CÓDIGO: EPIr049
E4: PROCESO GESTIÓN PLANEACIÓN INSTITUCIONAL | P4: VERSIÓN: 9
E6: PLAN DE ACCIÓN | P6: VIGENCIA: 2024-04-04
P7: PÁGINA: 2 de 58
B8: 13.
B11: Vigencia del Plan de Acción: | D11: =Contenido!D10 -> 0 | O11: Fecha de Publicación: | R11: =Contenido!S10 -> DD/MM/AAAA
B12: Versión: | D12: =Contenido!D11 -> 0
B14: Secretaría General | H14: Vicerrectoría Académica | N14: Vicerrectoría Administrativa y Finananciera
C17: 1 Trimestre | I17: 1 Trimestre | O17: 1 Trimestre
C18: 2 Trimestre | I18: 2 Trimestre | O18: 2 Trimestre
C19: 3 Trimestre | I19: 3 Trimestre | O19: 3 Trimestre
C20: 4 Trimestre | I20: 4 Trimestre | O20: 4 Trimestre

Sheet 1
D2: MACROPROCESO ESTRATÉGICO | L2: CÓDIGO: EPIr049
D4: PROCESO GESTIÓN PLANEACIÓN INSTITUCIONAL | L4: VERSIÓN: 9
D6: PLAN DE ACCIÓN | L6: VIGENCIA: 2024-04-08
L7: PÁGINA: 3 de 58
C8: 13.
E9: # Acciones 1° Trimestre: | F9: 1 | G9: % Total | H9: de Cumplimiento 1° Trimestre: | I9: =(SUM(L$15:L$18))/F9 -> 0.33333333
C10: Área: | D10: =[1]Contenido!C13 -> Secretaría General | E10: # Acciones 2° Trimestre: | F10: 1 | G10: % Total | H10: de Cumplimiento 2° Trimestre: | I10: =(SUM(L$21:L$27))/F10 -> 0.33333333 | L10: Instrucciones para el diligenciamiento
E11: # Acciones 3° Trimestre: | F11: 1 | G11: % Total | H11: de Cumplimiento 3° Trimestre: | I11: =(SUM(L$30:L$35))/F11 -> 0.66666667
E12: # Acciones 4° Trimestre: | F12: 1 | G12: % Total | H12: de Cumplimiento 4° Trimestre: | I12: =(SUM(L$38:L$42))/F12 -> 1
B14: Trimestre | C14: Frente | D14: Estrategia | E14: Meta | F14: Alta Dirección | G14: Área Responsable | H14: Tarea | I14: Descripción de la tarea | J14: Categoría de la tarea | K14: Entregable | L14: % Cumplimiento | M14: Observación de cumplimiento
B15: 1 | C15: Organización Social del Conocimiento y Aprendizaje Viva | D15: Posicionamiento y visibilidad de la Ucundinamarca | E15: Lograr el fenecimiento de la cuenta ante la Contraloría General de la República | F15: Secretaría General | G15: Secretaría General | H15: Avance 1T en el cumplimiento del plan de mejoramiento 2023 | I15: Avance 1T en el cumplimiento del plan de mejoramiento 2023 | J15: Táctica
B16: 1 | C16: Organización Social del Conocimiento y Aprendizaje Viva | D16: Trabajo en equipo y liderazgo promovido por la sede, las seccionales y extensiones | E16: Liderar los procesos electorales | F16: Secretaría General | G16: Secretaría General | H16: Proceso Precontractual para la adquisión de Tarjetones electorales | I16: Solicitud de inicio de proceso ABSr, con la identificación de las convocatorias. Recolección de cotizaciones | J16: Operativa
B17: 1 | C17: Organización Social del Conocimiento y Aprendizaje Viva | D17: Trabajo en equipo y liderazgo promovido por la sede, las seccionales y extensiones | E17: Verificar el cumplimiento a las metas y productos propuestos en los planes de acción a cargo de la Secretaria General, con el fin de contribuir al logro de las acciones estratégicas. | F17: Secretaría General | G17: Secretaría General | H17: Informe de Seguimiento de cumplimiento por dependencias | I17: Reuniones mensuales de seguimiento y acompañamiento permanente desde la SG | J17: Operativa | L17: 0.33333333
B18: 1
B20: Trimestre | C20: Frente | D20: Estrategia | E20: Meta | F20: Alta Dirección | G20: Área Responsable | H20: Tarea | I20: Descripción de la tarea | J20: Categoría de la tarea | K20: Entregable | L20: % Cumplimiento | M20: Observación de cumplimiento
B21: 2 | C21: Organización Social del Conocimiento y Aprendizaje Viva | D21: Posicionamiento y visibilidad de la Ucundinamarca | E21: Lograr el fenecimiento de la cuenta ante la Contraloría General de la República | F21: Secretaría General | G21: Secretaría General | H21: Avance 2T en el cumplimiento del plan de mejoramiento 2023 | I21: Avance 2T en el cumplimiento del plan de mejoramiento 2023 | J21: Táctica
B22: 2 | C22: Organización Social del Conocimiento y Aprendizaje Viva | D22: Trabajo en equipo y liderazgo promovido por la sede, las seccionales y extensiones | E22: Liderar los procesos electorales institucionales para diferentes cuerpos colegiados | F22: Secretaría General | G22: Secretaría General | H22: Comunicación del resultado del proceso eleccionario | I22: Escrutinio, comunicación del resultado y/o posesión de candidato electo. | J22: Operativa
B23: 2 | C23: Organización Social del Conocimiento y Aprendizaje Viva | D23: Trabajo en equipo y liderazgo promovido por la sede, las seccionales y extensiones | E23: Liderar los procesos electorales institucionales para diferentes cuerpos colegiados | F23: Secretaría General | G23: Secretaría General | H23: Desarrollo del proceso electoral en todas las fases reglamentarias | I23: Elecciones | J23: Operativa
B24: 2 | C24: Organización Social del Conocimiento y Aprendizaje Viva | D24: Trabajo en equipo y liderazgo promovido por la sede, las seccionales y extensiones | E24: Liderar los procesos electorales institucionales para diferentes cuerpos colegiados | F24: Secretaría General | G24: Secretaría General | H24: Emisión de convocatorias (actos administrativos) | I24: Realización, seguimiento y actualziación del Calendario electoral Universitario; 2. Verificación de los periodos de los representantes de los estamentos ante los Cuerpos colegiados | J24: Operativa
B25: 2 | C25: Organización Social del Conocimiento y Aprendizaje Viva | D25: Trabajo en equipo y liderazgo promovido por la sede, las seccionales y extensiones | E25: Verificar el cumplimiento a las metas y productos propuestos en los planes de acción a cargo de la Secretaria General, con el fin de contribuir al logro de las acciones estratégicas. | F25: Secretaría General | G25: Secretaría General | H25: Cronogramas de trabajo con las oficinas | I25: Reuniones mensuales de seguimiento, cumplimiento y acompañamiento permanente desde la SG | J25: Operativa
B26: 2 | C26: Organización Social del Conocimiento y Aprendizaje Viva | D26: Reingeniería de procesos | E26: Conceptos y Viabilidades para iniciar el proceso | F26: Secretaría General | G26: Secretaría General | H26: Conceptos y Viabilidades para iniciar el proceso | I26: Solicitud de concepto Juridico y solicitud de viabilidad Financiera | J26: Operativa | L26: 0.33333333
B27: 2
B29: Trimestre | C29: Frente | D29: Estrategia | E29: Meta | F29: Alta Dirección | G29: Área Responsable | H29: Tarea | I29: Descripción de la tarea | J29: Categoría de la tarea | K29: Entregable | L29: % Cumplimiento | M29: Observación de cumplimiento
B30: 3 | C30: Organización Social del Conocimiento y Aprendizaje Viva | D30: Convertir a la Universidad de Cundinamarca en una Institución educativa ágil para responder a los retos de una organización transmoderna y translocal | E30: Verificar el cumplimiento a las metas y productos propuestos en los planes de acción a cargo de la Secretaria General, con el fin de contribuir al logro de las acciones estratégicas. | F30: Secretaría General | G30: Secretaría General | H30: Cronogramas de trabajo con las oficinas | I30: Reuniones mensuales de seguimiento, cumplimiento y acompañamiento permanente desde la SG | J30: Estratégica
B31: 3 | C31: Organización Social del Conocimiento y Aprendizaje Viva | D31: Fortalecer el plan de medios y recursos educativos | E31: Conceptos y Viabilidades para iniciar el proceso | F31: Secretaría General | G31: Secretaría General | H31: Conceptos y Viabilidades para iniciar el proceso | I31: Solicitud de concepto Juridico y solicitud de viabilidad Financiera | J31: Estratégica
B32: 3 | C32: Organización Social del Conocimiento y Aprendizaje Viva | D32: Fortalecer el plan de medios y recursos educativos | E32: Liderar los procesos electorales institucionales para diferentes cuerpos colegiados | F32: Secretaría General | G32: Secretaría General | H32: Comunicación del resultado del proceso eleccionario | I32: Escrutinio, comunicación del resultado y/o posesión de candidato electo. | J32: Estratégica
B33: 3 | C33: Organización Social del Conocimiento y Aprendizaje Viva | D33: Fortalecer el plan de medios y recursos educativos | E33: Liderar los procesos electorales institucionales para diferentes cuerpos colegiados | F33: Secretaría General | G33: Secretaría General | H33: Desarrollo del proceso electoral en todas las fases reglamentarias | I33: Elecciones | J33: Estratégica
B34: 3 | C34: Organización Social del Conocimiento y Aprendizaje Viva | D34: Fortalecer el plan de medios y recursos educativos | E34: Liderar los procesos electorales institucionales para diferentes cuerpos colegiados | F34: Secretaría General | G34: Secretaría General | H34: Emisión de convocatorias (actos administrativos) | I34: Realización, seguimiento y actualziación del Calendario electoral Universitario; 2. Verificación de los periodos de los representantes de los estamentos ante los Cuerpos colegiados | J34: Estratégica
B35: 3 | L35: 0.66666667
B37: Trimestre | C37: Frente | D37: Estrategia | E37: Meta | F37: Alta Dirección | G37: Área Responsable | H37: Tarea | I37: Descripción de la tarea | J37: Categoría de la tarea | K37: Entregable | L37: % Cumplimiento | M37: Observación de cumplimiento
B38: 4 | C38: Organización Social del Conocimiento y Aprendizaje Viva | D38: Convertir a la Universidad de Cundinamarca en una Institución educativa ágil para responder a los retos de una organización transmoderna y translocal | E38: Verificar el cumplimiento a las metas y productos propuestos en los planes de acción a cargo de la Secretaria General, con el fin de contribuir al logro de las acciones estratégicas. | F38: Secretaría General | G38: Secretaría General | H38: Cronogramas de trabajo con las oficinas - Reuniones mensuales de seguimiento, cumplimiento y acompañamiento permanente desde la SG | I38: Reuniones mensuales de seguimiento, cumplimiento y acompañamiento permanente desde la SG | J38: Estratégica
B39: 4 | C39: Organización Social del Conocimiento y Aprendizaje Viva | D39: Fortalecer el plan de medios y recursos educativos | E39: Ejecución de gastos de funcionamiento | F39: Secretaría General | G39: Secretaría General | H39: Ejecución gastos de funcionamiento 90% | I39: Alcanzar la ejecución presupúestal de gastos de funcionamiento en un 90% | J39: Estratégica
B40: 4 | C40: Organización Social del Conocimiento y Aprendizaje Viva | D40: Fortalecer el plan de medios y recursos educativos | E40: Ejecución de gastos de funcionamiento | F40: Secretaría General | G40: Secretaría General | H40: Ejecución gastos de funcionamiento 90% - Alcanzar la ejecución presupúestal de gastos de funcionamiento en un 90% | I40: Alcanzar la ejecución presupúestal de gastos de funcionamiento en un 90% | J40: Estratégica
B41: 4 | C41: Organización Social del Conocimiento y Aprendizaje Viva | D41: Fortalecer el plan de medios y recursos educativos | E41: Lograr el fortalecimiento de la cuenta ante la Contraloría General de la República | F41: Secretaría General | G41: Secretaría General | H41: Avance 3T en el cumplimiento del plan de mejoramiento 2023 | I41: Avance 3T en el cumplimiento del plan de mejoramiento 2023 | J41: Estratégica
B42: 4 | L42: 1

Sheet 1.1 
D2: MACROPROCESO ESTRATÉGICO | L2: CÓDIGO: EPIr049
D4: PROCESO GESTIÓN PLANEACIÓN INSTITUCIONAL | L4: VERSIÓN: 9
D6: PLAN DE ACCIÓN | L6: VIGENCIA: 2024-04-08
L7: PÁGINA: 4 de 58
C8: 13.
E9: # Acciones 1° Trimestre: | F9: 1 | G9: % Total | H9: de Cumplimiento 1° Trimestre: | I9: =(SUM(L$15:L$17))/F9 -> 0.66666667
C10: Área: | D10: =[1]Contenido!C15 -> Dirección Jurídica | E10: # Acciones 2° Trimestre: | F10: 1 | G10: % Total | H10: de Cumplimiento 2° Trimestre: | I10: =(SUM(L$20:L$22))/F10 -> 0.33333333 | L10: Instrucciones para el diligenciamiento
E11: # Acciones 3° Trimestre: | F11: 1 | G11: % Total | H11: de Cumplimiento 3° Trimestre: | I11: =(SUM(L$25:L$28))/F11 -> 0.33333333
E12: # Acciones 4° Trimestre: | F12: 1 | G12: % Total | H12: de Cumplimiento 4° Trimestre: | I12: =(SUM(L$31:L$34))/F12 -> 1
B14: Trimestre | C14: Frente | D14: Estrategia | E14: Meta | F14: Alta Dirección | G14: Área Responsable | H14: Tarea | I14: Descripción de la tarea | J14: Categoría de la tarea | K14: Entregable | L14: % Cumplimiento | M14: Observación de cumplimiento
B15: 1 | C15: Organización Social del Conocimiento y Aprendizaje Viva | D15: Plan Desarrollo | E15: Informativo Juridico | F15: Secretaría General | G15: Dirección Jurídica | H15: Busqueda Jurisprudencial | I15: Se realizara la Busqueda de Juridisprudencia de interes para la Universidad de Cundinamarca. | J15: Estratégica
B16: 1 | C16: Organización Social del Conocimiento y Aprendizaje Viva | D16: Plan Desarrollo | E16: Organigrama Normativo Digital | F16: Secretaría General | G16: Dirección Jurídica | H16: Selección de Herramienta Digital | I16: La Direccion juridica evaluara y seleccionara la herramienta digital idonea para realizar el Organigrama normativo Digital | J16: Estratégica
B17: 1 | L17: 0.66666667
B19: Trimestre | C19: Frente | D19: Estrategia | E19: Meta | F19: Alta Dirección | G19: Área Responsable | H19: Tarea | I19: Descripción de la tarea | J19: Categoría de la tarea | K19: Entregable | L19: % Cumplimiento | M19: Observación de cumplimiento
B20: 2 | C20: Organización Social del Conocimiento y Aprendizaje Viva | D20: Plan Desarrollo | E20: Organigrama Normativo Digital | F20: Secretaría General | G20: Dirección Jurídica | H20: Recopilación Normativa | I20: Mediante OneDrive se recopilara por Dependencias la normatividad aplicable a cada dependencia | J20: Estratégica
B21: 2 | C21: Organización Social del Conocimiento y Aprendizaje Viva | D21: Plan Desarrollo | E21: Organigrama Normativo Digital | F21: Secretaría General | G21: Dirección Jurídica | H21: Busqueda Jurisprudencial | I21: Se realizara la recoleccion de Juridisprudencia de interes para la Universidad de Cundinamarca y se almacenara mediante OneDrive | J21: Estratégica | L21: 0.33333333
B22: 2
B24: Trimestre | C24: Frente | D24: Estrategia | E24: Meta | F24: Alta Dirección | G24: Área Responsable | H24: Tarea | I24: Descripción de la tarea | J24: Categoría de la tarea | K24: Entregable | L24: % Cumplimiento | M24: Observación de cumplimiento
B25: 3 | C25: Organización Social del Conocimiento y Aprendizaje Viva | D25: Convertir a la Universidad de Cundinamarca en una Institución educativa ágil para responder a los retos de una organización transmoderna y translocal | E25: Informativo Jurídico | F25: Secretaría General | G25: Dirección Jurídica | H25: AVANCE DE INFORMATIVO JURIDICO - La Dirección Jurídica, una vez, efectuada la recopilación de las Jurisprudencias de interés para la Universidad de Cundinamarca y efectuado un análisis de cada una, efectuará proyecto de Avance de Informativo Juridico | I25: La Dirección Jurídica, una vez, efectuada la recopilación de las Jurisprudencias de interés para la Universidad de Cundinamarca y efectuado un análisis de cada una, efectuará proyecto de Avance de Informativo Juridico
B26: 3 | C26: Organización Social del Conocimiento y Aprendizaje Viva | D26: Convertir a la Universidad de Cundinamarca en una Institución educativa ágil para responder a los retos de una organización transmoderna y translocal | E26: Organigrama Normativo Digital | F26: Secretaría General | G26: Dirección Jurídica | H26: AVANCE DE ORGANIGRAMA - La Dirección Jurídica, una vez, efectuada la recopilación de la normatividad para cada área que integra el Organigrama de la Universidad, efectuará proyecto mediante el aplicativo VISIO | I26: La Dirección Jurídica, una vez, efectuada la recopilación de la normatividad para cada área que integra el Organigrama de la Universidad, efectuará proyecto mediante el aplicativo VISIO | J26: Táctica
B27: 3 | C27: Organización Social del Conocimiento y Aprendizaje Viva | D27: Fortalecer el plan de medios y recursos educativos | E27: Efectuar seguimiento a la ejecución presupuestal. | F27: Secretaría General | G27: Dirección Jurídica | H27: INFORME DE LA EJECUCION PRESUPUESTAL DE LOS RECURSOS ASIGNADO - Reporte trimestral de la ejecución presupuestal de los recursos que tiene asignados, en atención de los porcentajes de ejecución establecidos por el Comité Universitario de Política Fiscal - COUNFIS | I27: Reporte trimestral de la ejecución presupuestal de los recursos que tiene asignados, en atención de los porcentajes de ejecución establecidos por el Comité Universitario de Política Fiscal - COUNFIS | J27: Táctica
B28: 3 | L28: 0.33333333
B30: Trimestre | C30: Frente | D30: Estrategia | E30: Meta | F30: Alta Dirección | G30: Área Responsable | H30: Tarea | I30: Descripción de la tarea | J30: Categoría de la tarea | K30: Entregable | L30: % Cumplimiento | M30: Observación de cumplimiento
B31: 4 | C31: Organización Social del Conocimiento y Aprendizaje Viva | D31: Convertir a la Universidad de Cundinamarca en una Institución educativa ágil para responder a los retos de una organización transmoderna y translocal | E31: Informativo Jurídico | F31: Secretaría General | G31: Dirección Jurídica | H31: PUBLICACION INFORMATIVO JURIDICO - La Direccion juridica divulgara mediante el medio de comunicación idoneo, el Informativo Juridico, lo anterior, efectuando la solicitud a traves de la Plataforma | I31: La Direccion juridica divulgara mediante el medio de comunicación idoneo, el Informativo Juridico, lo anterior, efectuando la solicitud a traves de la Plataforma Institucional - Gestiones Comunicaciones. | J31: Operativa
B32: 4 | C32: Organización Social del Conocimiento y Aprendizaje Viva | D32: Convertir a la Universidad de Cundinamarca en una Institución educativa ágil para responder a los retos de una organización transmoderna y translocal | E32: Organigrama Normativo Digital | F32: Secretaría General | G32: Dirección Jurídica | H32: PUBLICACION ORGANIGRAMA NORMATIO DIGITAL - La Direccion juridica divulgara mediante el medio de comunicación idoneo, el Organigrama Normativo Digital, lo anterior, efectuando la solicitud a traves de la Plataforma Institucional - Gestiones Comunicaciones. | I32: La Direccion juridica divulgara mediante el medio de comunicación idoneo, el Organigrama Normativo Digital, lo anterior, efectuando la solicitud a traves de la Plataforma Institucional - Gestiones Comunicaciones. | J32: Operativa
B33: 4 | C33: Organización Social del Conocimiento y Aprendizaje Viva | D33: Fortalecer el plan de medios y recursos educativos | E33: Efectuar seguimiento a la ejecución presupuestal. | F33: Secretaría General | G33: Dirección Jurídica | H33: INFORME DE LA EJECUCION PRESUPUESTAL DE LOS RECURSOS ASIGNADO - Reporte trimestral de la ejecución presupuestal de los recursos que tiene asignados, en atención de los porcentajes de ejecución establecidos por el Comité Universitario de Política Fiscal - COUNFIS. | I33: Reporte trimestral de la ejecución presupuestal de los recursos que tiene asignados, en atención de los porcentajes de ejecución establecidos por el Comité Universitario de Política Fiscal - COUNFIS | J33: Estratégica
B34: 4 | L34: 1

Sheet 1.2 
D2: MACROPROCESO ESTRATÉGICO | L2: CÓDIGO: EPIr049
D4: PROCESO GESTIÓN PLANEACIÓN INSTITUCIONAL | L4: VERSIÓN: 9
D6: PLAN DE ACCIÓN | L6: VIGENCIA: 2024-04-08
L7: PÁGINA: 5 de 58
C8: 13.
E9: # Acciones 1° Trimestre: | F9: 1 | G9: % Total | H9: de Cumplimiento 1° Trimestre: | I9: =(SUM(L$15:L$25))/F9 -> 0
C10: Área: | D10: =[1]Contenido!C16 -> Dirección de Planeación Institucional | E10: # Acciones 2° Trimestre: | F10: 1 | G10: % Total | H10: de Cumplimiento 2° Trimestre: | I10: =(SUM(L$28:L$47))/F10 -> 0 | L10: Instrucciones para el diligenciamiento
E11: # Acciones 3° Trimestre: | F11: 1 | G11: % Total | H11: de Cumplimiento 3° Trimestre: | I11: =(SUM(L$50:L$63))/F11 -> 0
E12: # Acciones 4° Trimestre: | F12: 1 | G12: % Total | H12: de Cumplimiento 4° Trimestre: | I12: =(SUM(L$66:L$92))/F12 -> 0
B14: Trimestre | C14: Frente | D14: Estrategia | E14: Meta | F14: Alta Dirección | G14: Área Responsable | H14: Tarea | I14: Descripción de la tarea | J14: Categoría de la tarea | K14: Entregable | L14: % Cumplimiento | M14: Observación de cumplimiento
B15: 1 | C15: Organización Social del Conocimiento y Aprendizaje Viva | D15: Implementar el Modelo Integrado de Planeación y Gestión (MIPG) | E15: Crear e implementar una ruta de Fortalecimiento a la Estrategia de Transparencia integral desde la dimensión Gestión de Valores por Resultado, en temas como rendición de cuentas, anticorrupción, acceso a la información pública, inclusión, participación ciudadana y satisfacción. | F15: Secretaría General | G15: Dirección de Planeación Institucional | H15: Desarrollar un análisis del estado situacional de las herramientas de la estrategia de transparencia institucional vigencia 2022 - 2023 | I15: Resultado del análisis del estado situacional de la política de transparencia (ITA) | J15: Operativa
B16: 1 | C16: Organización Social del Conocimiento y Aprendizaje Viva | D16: Implementar el Modelo Integrado de Planeación y Gestión (MIPG) | E16: Política de Gestión del Conocimiento y la Innovación | F16: Secretaría General | G16: Dirección de Planeación Institucional | H16: Elaboración autodianóstico de la política de gestión del conocimiento y la innovación | I16: Autodiagnóstico desarrollado | J16: Operativa
B17: 1 | C17: Organización Social del Conocimiento y Aprendizaje Viva | D17: Implementar el Modelo Integrado de Planeación y Gestión (MIPG) | E17: Política de Seguimiento y Evaluación del Desempeño | F17: Secretaría General | G17: Dirección de Planeación Institucional | H17: Primer Monitoreo Racionalización de Trámites y servicios PAAC | I17: Informe de seguimiento a trámites | J17: Operativa
B18: 1 | C18: Organización Social del Conocimiento y Aprendizaje Viva | D18: Implementar el Modelo Integrado de Planeación y Gestión (MIPG) | E18: Política de Transparencia, acceso a la información pública y lucha contra la corrupción. | F18: Secretaría General | G18: Dirección de Planeación Institucional | H18: Elaboración y publicación de la estrategia del PAAC vigencia 2024 | I18: PAAC publicado | J18: Estratégica
B19: 1 | C19: Organización Social del Conocimiento y Aprendizaje Viva | D19: Implementar el Modelo Integrado de Planeación y Gestión (MIPG) | E19: Política Planeación Institucional. | F19: Secretaría General | G19: Dirección de Planeación Institucional | H19: Elaboración autodiagnóstico de política | I19: Diagnostico elaborado | J19: Operativa
B20: 1 | C20: Organización Social del Conocimiento y Aprendizaje Viva | D20: Certificación de los Sistemas de Gestión e integración | E20: Llevar a cabo la Auditoría de certificación en la norma ISO 37001 -Sistemas de Gestión Anti-Soborno. | F20: Secretaría General | G20: Dirección de Planeación Institucional | H20: Jornada de capacitación de lineamientos establecidos del Sistema de Gestión Antisoborno | I20: Convocatoria | J20: Estratégica
B21: 1 | C21: Organización Social del Conocimiento y Aprendizaje Viva | D21: Desarrollo físico, mejoramiento de la infraestructura, modernización y adecuación de laboratorios | E21: Actualizar e implementar Plan de desarrollo físico | F21: Secretaría General | G21: Dirección de Planeación Institucional | H21: Actualizacion de planimetria Extensión Facatativá Trimestre 1 | I21: Visitas técnicas a la extensión Facacatativá, para el levantamiento de información planimetria que permita generar planos arquitectonicos | J21: Estratégica
B22: 1 | C22: Organización Social del Conocimiento y Aprendizaje Viva | D22: Desarrollo físico, mejoramiento de la infraestructura, modernización y adecuación de laboratorios | E22: Presentar los proyectos diseñados al sistema general de regalías. | F22: Secretaría General | G22: Dirección de Planeación Institucional | H22: Formulación del proyecto según requisitos acuerdo 07 Comisión rectora SGR T1 | I22: De acuerdo con la ley 2056 de 2020 del Sistema General de Regalias, todo proyecto susceptible de ser financiado por este fondo debe cumplir con unos supuestos de prefactibilidad y asi poder definir dentro del SGR que fondo podria realizar la financiación del mismo, por lo tanto durante el primer trimestre se debe realizar el levantamiento de la información diagnostica que soporte el proyecto. | J22: Estratégica
B23: 1 | C23: Organización Social del Conocimiento y Aprendizaje Viva | D23: Desarrollo físico, mejoramiento de la infraestructura, modernización y adecuación de laboratorios | E23: Seguimiento y actualización del inventario de espacios académicos y administrativos. | F23: Secretaría General | G23: Dirección de Planeación Institucional | H23: Validación y actualización del inventario de Espacios Fisicos de la Sede de Fusagasugá | I23: Validación y actualización del inventario de Espacios Fisicos de la Sede de Fusagasugá | J23: Operativa
B24: 1 | C24: Organización Social del Conocimiento y Aprendizaje Viva | D24: Austeridad y racionalización del gasto | E24: Ejecución Plan de Inversión | F24: Secretaría General | G24: Dirección de Planeación Institucional | H24: Ejecución T1 18% Dirección de Planeación Institucional | I24: Alcanzar la ejecución de Planes de inversión 2023 en un 18% | J24: Táctica
B25: 1
B27: Trimestre | C27: Frente | D27: Estrategia | E27: Meta | F27: Alta Dirección | G27: Área Responsable | H27: Tarea | I27: Descripción de la tarea | J27: Categoría de la tarea | K27: Entregable | L27: % Cumplimiento | M27: Observación de cumplimiento
B28: 2 | C28: Organización Social del Conocimiento y Aprendizaje Viva | D28: Implementar el Modelo Integrado de Planeación y Gestión (MIPG) | E28: Actualización y formalización del código autonómico versión 3. | F28: Secretaría General | G28: Dirección de Planeación Institucional | H28: Actualización y socialización del código autonómico, versión 3 y peusta en marcha del reto de la integridad. | I28: Jornada de socialización. | J28: Estratégica
B29: 2 | C29: Organización Social del Conocimiento y Aprendizaje Viva | D29: Implementar el Modelo Integrado de Planeación y Gestión (MIPG) | E29: Consolidar el Modelo Integrado de Planeación y Gestión (MIPG) (nivel medio) | F29: Secretaría General | G29: Dirección de Planeación Institucional | H29: Identificación y divulgación de las etapas del modelo MIPG en la Ucundinamarca. | I29: Informe de identificación | J29: Estratégica
B30: 2 | C30: Organización Social del Conocimiento y Aprendizaje Viva | D30: Implementar el Modelo Integrado de Planeación y Gestión (MIPG) | E30: Crear e implementar una ruta de Fortalecimiento a la Estrategia de Transparencia integral desde la dimensión Gestión de Valores por Resultado, en temas como rendición de cuentas, anticorrupción, acceso a la información pública, inclusión, participación ciudadana y satisfacción. | F30: Secretaría General | G30: Dirección de Planeación Institucional | H30: Desarrollar ejercicios de participación ciudadana para identificar la información de interes que debe ser publicada. | I30: 1 ejercicio de participación ciudadana desarrollado - memorias del ejercicio - metrica - lista de asistencia | J30: Estratégica
B31: 2 | C31: Organización Social del Conocimiento y Aprendizaje Viva | D31: Implementar el Modelo Integrado de Planeación y Gestión (MIPG) | E31: Lograr que los resultados del Formulario Único Reporte de Avances de la Gestión (FURAG) estén en 95% | F31: Secretaría General | G31: Dirección de Planeación Institucional | H31: Consolidación resultados autodiagnósticos de política | I31: Informe de resultados de autodiagnósitcos | J31: Operativa
B32: 2 | C32: Organización Social del Conocimiento y Aprendizaje Viva | D32: Implementar el Modelo Integrado de Planeación y Gestión (MIPG) | E32: Lograr que los resultados del Formulario Único Reporte de Avances de la Gestión (FURAG) estén en 95% | F32: Secretaría General | G32: Dirección de Planeación Institucional | H32: Implementación mesas de trabajo socialización estrategia de reporte al FURAG, validando avances porcentuales | I32: Listas de asistencia a las mesas de trabajo - Informe del avance porcentual de políticas | J32: Operativa
B33: 2 | C33: Organización Social del Conocimiento y Aprendizaje Viva | D33: Implementar el Modelo Integrado de Planeación y Gestión (MIPG) | E33: Política de Transparencia, acceso a la información pública y lucha contra la corrupción. | F33: Secretaría General | G33: Dirección de Planeación Institucional | H33: Mesas de trabajo para abordar la gestión del riesgo con los procesos y publicación de la matriz del PAAC vigencia 2024 | I33: PAAC publicado | J33: Estratégica
B34: 2 | C34: Organización Social del Conocimiento y Aprendizaje Viva | D34: Implementar el Modelo Integrado de Planeación y Gestión (MIPG) | E34: Política de Transparencia, acceso a la información pública y lucha contra la corrupción. | F34: Secretaría General | G34: Dirección de Planeación Institucional | H34: Monitoreo cuatrimestral gestión de riesgos de corrupción- PAAC | I34: Informe de primer cuatrimestre monitoreo a riesgos de corrupción | J34: Estratégica
B35: 2 | C35: Organización Social del Conocimiento y Aprendizaje Viva | D35: Implementar el Modelo Integrado de Planeación y Gestión (MIPG) | E35: Política Planeación Institucional. | F35: Secretaría General | G35: Dirección de Planeación Institucional | H35: Estrategia de rendición de cuentas | I35: Desarrollo de los ejercicios de rendición de cuentas | J35: Estratégica
B36: 2 | C36: Organización Social del Conocimiento y Aprendizaje Viva | D36: Implementar el Modelo Integrado de Planeación y Gestión (MIPG) | E36: Política Planeación Institucional. | F36: Secretaría General | G36: Dirección de Planeación Institucional | H36: Informe porcentual del cierre de brechas T2 | I36: Informe porcentual del cierre de brechas | J36: Operativa
B37: 2 | C37: Organización Social del Conocimiento y Aprendizaje Viva | D37: Implementar el Modelo Integrado de Planeación y Gestión (MIPG) | E37: Política Planeación Institucional. | F37: Secretaría General | G37: Dirección de Planeación Institucional | H37: Seguimiento Trámites y servicios PAAC T2 | I37: Informe de seguimiento a trámites | J37: Operativa
B38: 2 | C38: Organización Social del Conocimiento y Aprendizaje Viva | D38: Certificación de los Sistemas de Gestión e integración | E38: Implementación del Sistema de Gestión Antisoborno. | F38: Secretaría General | G38: Dirección de Planeación Institucional | H38: Presentación del avance porcentual del Sistema de Gestión Antisoborno. | I38: Informe Oficial de Cumplimiento | J38: Estratégica
B39: 2 | C39: Organización Social del Conocimiento y Aprendizaje Viva | D39: Certificación de los Sistemas de Gestión e integración | E39: Llevar a cabo la Auditoría de certificación en la norma ISO 37001 - | F39: Secretaría General | G39: Dirección de Planeación Institucional | H39: Acompañamiento en la formulación y ejecución de planes de mejoramiento producto de la auditoría interna vigencia 2023 del Sistema de Gestión Antisoborno | I39: Reporte de Aplicativo de acciones correctivas y de mejora | J39: Estratégica
... B46: 2 | C46: Organización Social del Conocimiento y Aprendizaje Viva | D46: Austeridad y racionalización del gasto | E46: Ejecución Plan de Inversión | F46: Secretaría General | G46: Dirección de Planeación Institucional | H46: Ejecución T2 32% Dirección de Planeación Institucional | I46: Alcanzar la ejecución de Planes de inversión 2023 en un 32% | J46: Táctica
B47: 2
B49: Trimestre | C49: Frente | D49: Estrategia | E49: Meta | F49: Alta Dirección | G49: Área Responsable | H49: Tarea | I49: Descripción de la tarea | J49: Categoría de la tarea | K49: Entregable | L49: % Cumplimiento | M49: Observación de cumplimiento
B50: 3 | C50: Organización Social del Conocimiento y Aprendizaje Viva | D50: Fortalecer el plan de medios y recursos educativos. | E50: Ejecución Plan de Inversión | F50: Secretaría General | G50: Dirección de Planeación Institucional | H50: Ejecución T3 63% | I50: Alcanzar la ejecución de Planes de inversión 2024 en un 63% | J50: Táctica
B51: 3 | C51: Organización Social del Conocimiento y Aprendizaje Viva | D51: Modernizar la infraestructura tecnológica de la Universidad de Cundinamarca | E51: Actualizar e implementar Plan de desarrollo físico | F51: Secretaría General | G51: Dirección de Planeación Institucional | H51: Validación y Actualización del Inventario de Espacios Físicos de Extensiones / Seccionales de la Universidad de Cundinamarca | I51: Validación y actualización del inventario de Espacios Físicos de las Seccional Ubaté | J51: Táctica
B52: 3 | C52: Organización Social del Conocimiento y Aprendizaje Viva | D52: Modernizar la infraestructura tecnológica de la Universidad de Cundinamarca | E52: Actualizar e implementar Plan de desarrollo físico | F52: Secretaría General | G52: Dirección de Planeación Institucional | H52: Visita tecnica a la Seccional Girardot para el levantamiento de planimetria arquitectonica. | I52: Visitas técnicas a la Seccional Girardot, para el levantamiento de información planimetria que permita geenrar planos arquitectonicos actualizados. | J52: Estratégica
...

Sheet 1.3 
D2: MACROPROCESO ESTRATÉGICO | L2: CÓDIGO: EPIr049
D4: PROCESO GESTIÓN PLANEACIÓN INSTITUCIONAL | L4: VERSIÓN: 9
D6: PLAN DE ACCIÓN | L6: VIGENCIA: 2024-04-08
L7: PÁGINA: 6 de 58
C8: 13.
E9: # Acciones 1° Trimestre: | F9: 1 | G9: % Total | H9: de Cumplimiento 1° Trimestre: | I9: =(SUM(L$15:L$21))/F9 -> 0
C10: Área: | D10: =[1]Contenido!C17 -> Dirección de Sistemas y Tecnología | E10: # Acciones 2° Trimestre: | F10: 1 | G10: % Total | H10: de Cumplimiento 2° Trimestre: | I10: =(SUM(L$24:L$29))/F10 -> 0 | L10: Instrucciones para el diligenciamiento
E11: # Acciones 3° Trimestre: | F11: 1 | G11: % Total | H11: de Cumplimiento 3° Trimestre: | I11: =(SUM(L$32:L$39))/F11 -> 0
E12: # Acciones 4° Trimestre: | F12: 1 | G12: % Total | H12: de Cumplimiento 4° Trimestre: | I12: =(SUM(L$42:L$50))/F12 -> 0
B14: Trimestre | C14: Frente | D14: Estrategia | E14: Meta | F14: Alta Dirección | G14: Área Responsable | H14: Tarea | I14: Descripción de la tarea | J14: Categoría de la tarea | K14: Entregable | L14: % Cumplimiento | M14: Observación de cumplimiento
B15: 1 | C15: Organización Social del Conocimiento y Aprendizaje Viva | D15: Desconcentración de procesos administrativos de las dependencias con la Dirección de Sistemas y Tecnología | E15: Desconcentración de procesos administrativos de las dependencias con la Dirección de Sistemas y Tecnología | F15: Secretaría General | G15: Dirección de Sistemas y Tecnología | H15: Documentación de la matríz de roles y privilegios | I15: Actualización del instructivo ASII015 donde se incluya la caracterización de módulos activos en los sistemas de información | J15: Táctica
B16: 1 | C16: Organización Social del Conocimiento y Aprendizaje Viva | D16: Planes y Programas Estratégicos de corto y mediano plazo | E16: Ejecución Plan de Inversión y Gastos de Funcionamiento | F16: Secretaría General | G16: Dirección de Sistemas y Tecnología | H16: Ejecución de recursos priorizados | I16: Informe que detalle el rumbo de los recursos priorizados por los proyectos de inversión y gastos de funcionamiento | J16: Estratégica
B17: 1 | C17: Organización Social del Conocimiento y Aprendizaje Viva | D17: Planes y Programas Estratégicos de corto y mediano plazo | E17: Proyección de desarrollo para la infraestructura física y tecnológica de la Ucundinamarca | F17: Secretaría General | G17: Dirección de Sistemas y Tecnología | H17: Lineamientos establecidos para la formulación de proyectos. | I17: nforme y estado de los proyectos de inversión de infraestructura tecnológica para el mejoramiento del servicio de conectividad y control de acceso | J17: Estratégica
B18: 1 | C18: Organización Social del Conocimiento y Aprendizaje Viva | D18: Planes y Programas Estratégicos de corto y mediano plazo | E18: Revisión y actualización del Sistema de Gestión de la Calidad de la Dirección de Sistemas y Tecnología | F18: Secretaría General | G18: Dirección de Sistemas y Tecnología | H18: Actualización del Sistema de Gestión de la Calidad | I18: Cronograma de actualización de la documentación del Sistema de Gestión de la Calidad | J18: Estratégica
B19: 1 | C19: Organización Social del Conocimiento y Aprendizaje Viva | D19: Organización Universitaria Digital | E19: Consolidación y puesta en marcha de reingeniería y digitalización de procesos | F19: Secretaría General | G19: Dirección de Sistemas y Tecnología | H19: Reingenieria y digitalización de procesos administrativos | I19: Cronograma para el diseño y desarrollo de los requerimientos de los sistemas de información. | J19: Estratégica
B20: 1 | C20: Organización Social del Conocimiento y Aprendizaje Viva | D20: Organización Universitaria Digital | E20: Efectividad del servicio prestado mendiante la mesa de servicios a un clic | F20: Secretaría General | G20: Dirección de Sistemas y Tecnología | H20: Establecer los tiempos de respuesta por la mesa de servicios para la Dirección de Sistemas y Tecnología | I20: Actualización del procedimiento ASIP33 donde se establezca tiempos de respuesta por subcategoría del servicio y área encargada | J20: Estratégica
B21: 1
B23: Trimestre | C23: Frente | D23: Estrategia | E23: Meta | F23: Alta Dirección | G23: Área Responsable | H23: Tarea | I23: Descripción de la tarea | J23: Categoría de la tarea | K23: Entregable | L23: % Cumplimiento | M23: Observación de cumplimiento
B24: 2 | C24: Organización Social del Conocimiento y Aprendizaje Viva | D24: Desconcentración de procesos administrativos de las dependencias con la Dirección de Sistemas y Tecnología | E24: Desconcentración de procesos administrativos de las dependencias con la Dirección de Sistemas y Tecnología | F24: Secretaría General | G24: Dirección de Sistemas y Tecnología | H24: Divulgación de la matríz de roles y privilegios de la plataforma institucional | I24: Publicación y divulgación de roles y privilegios consolidados en el instructivo ASII015 | J24: Táctica
B25: 2 | C25: Organización Social del Conocimiento y Aprendizaje Viva | D25: Planes y Programas Estratégicos de corto y mediano plazo | E25: Ejecución Plan de Inversión y Gastos de Funcionamiento | F25: Secretaría General | G25: Dirección de Sistemas y Tecnología | H25: Estado de los procesos precontractuales | I25: Informe pormenorizado de proceso precontractual por los proyectos de inversión y gastos de funcionamiento | J25: Táctica
B26: 2 | C26: Organización Social del Conocimiento y Aprendizaje Viva | D26: Planes y Programas Estratégicos de corto y mediano plazo | E26: Revisión y actualización del Sistema de Gestión de la Calidad de la Dirección de Sistemas y Tecnología | F26: Secretaría General | G26: Dirección de Sistemas y Tecnología | H26: Informe de avance y cambios realizados a la documentación | I26: Informe pormenorizado de los procedimientos, manuales, guías e instructivos actualizados detallando los cambios realizados. | J26: Operativa
B27: 2 | C27: Organización Social del Conocimiento y Aprendizaje Viva | D27: Organización Universitaria Digital | E27: Consolidación y puesta en marcha de reingeniería y digitalización de procesos | F27: Secretaría General | G27: Dirección de Sistemas y Tecnología | H27: Informe de desarrollos de sistemas de información | I27: Informe semestral del avance del cronograma de desarrollos de sistemas de información | J27: Táctica
B28: 2 | C28: Organización Social del Conocimiento y Aprendizaje Viva | D28: Organización Universitaria Digital | E28: Efectividad del servicio prestado mendiante la mesa de servicios a un clic | F28: Secretaría General | G28: Dirección de Sistemas y Tecnología | H28: Medición de efectividad del servicio | I28: Presentación de la ficha de medición de la efectividad del servicio del primer semestre del 2024 | J28: Táctica
B29: 2
B31: Trimestre | C31: Frente | D31: Estrategia | E31: Meta | F31: Alta Dirección | G31: Área Responsable | H31: Tarea | I31: Descripción de la tarea | J31: Categoría de la tarea | K31: Entregable | L31: % Cumplimiento | M31: Observación de cumplimiento
B32: 3 | C32: Organización Social del Conocimiento y Aprendizaje Viva | D32: Transformación y cultura digital para soportar los procesos académicos y administrativos | E32: Digitalización banco de proyectos. | F32: Secretaría General | G32: Dirección de Sistemas y Tecnología | H32: Proyectar documento de resolución de grupo de Gobierno de Datos para la Ucundinamarca | I32: En alineación con la Dirección de Planeación Institucional y el Sistema de Gestión de Seguridad de la Información crear el documento borrador de la resolución de constitución del grupo de gobierno de datos de la Ucundinamarca | J32: Estratégica
B33: 3 | C33: Organización Social del Conocimiento y Aprendizaje Viva | D33: Modernizar la infraestructura tecnológica de la Universidad de Cundinamarca | E33: Ejecución Plan de Inversión | F33: Secretaría General | G33: Dirección de Sistemas y Tecnología | H33: Seguimiento a la ejecución presupuestal de gastos de funcionamiento y proyectos de inversión | I33: Presentar informe ejecutivo del 75% de la ejecución presupuestal de acuerdo a la asignación de recursos de la Dirección de Sistemas y Tecnología | J33: Estratégica
B34: 3 | C34: Organización Social del Conocimiento y Aprendizaje Viva | D34: Modernizar la infraestructura tecnológica de la Universidad de Cundinamarca | E34: Seguimiento y actualización del inventario de espacios académicos y administrativos. | F34: Secretaría General | G34: Dirección de Sistemas y Tecnología | H34: Presentar informe ejecutivo de los proyectos priorizados vigencia 2024 - PETI | I34: Se presentará informe pormenorizado de las actuaciones realizadas en los proyectos de inversión aprobados en la vigencia 2024, que hacen referencia a proyectos del PETI | J34: Táctica
B35: 3 | C35: Organización Social del Conocimiento y Aprendizaje Viva | D35: Avanzar en la implementación de Gobierno de datos, gobierno en linea, e incorporar componantes de inteligencia artificial en procesos académicos y administrativos | E35: Digitalización banco de proyectos. | F35: Secretaría General | G35: Dirección de Sistemas y Tecnología | H35: Informe de avance y cambios realizados a la documentación | I35: Informe pormenorizado de los procedimientos, manuales, guías e instructivos actualizados detallando los cambios realizados. | J35: Operativa
B36: 3 | C36: Organización Social del Conocimiento y Aprendizaje Viva | D36: Implementar los sistemas integrados de gestión en la Universidad de Cundinamarca | E36: Posicionar a la Udec como una institución educativa competitiva que obtenga un resultado por encima del promedio nacional de índice de desempeño institucional y control interno. | F36: Secretaría General | G36: Dirección de Sistemas y Tecnología | H36: Informe de avance de la puesta en marcha de los procesos de reingeniería y digitalización | I36: Informe trimestral del avance del cronograma de desarrollos de sistemas de información | J36: Táctica
B37: 3 | C37: Organización Social del Conocimiento y Aprendizaje Viva | D37: Implementar los sistemas integrados de gestión en la Universidad de Cundinamarca | E37: Posicionar a la Udec como una institución educativa competitiva que obtenga un resultado por encima del promedio nacional de índice de desempeño institucional y control interno. | F37: Secretaría General | G37: Dirección de Sistemas y Tecnología | H37: Radicar la propuesta de valor de proyectos de inversión ante el Banco Universitario de Proyectos (BUP) | I37: Se radicará ante el BUP los proyectos de inversión contenidos en el PETI para su validación técnica y aprovisionamiento de recursos | J37: Operativa
B38: 3 | C38: Organización Social del Conocimiento y Aprendizaje Viva | D38: Implementar los sistemas integrados de gestión en la Universidad de Cundinamarca | E38: Posicionar a la Udec como una institución educativa competitiva que obtenga un resultado por encima del promedio nacional de índice de desempeño institucional y control interno. | F38: Secretaría General | G38: Dirección de Sistemas y Tecnología | H38: Realizar el diagnostico interno por parte de la Dirección de Sistemas y Tecnología | I38: Se presentará un informe ejecutivo del diagnostico a la infraestructura tecnológica de la Universidad de Cundinamarca que permita identificar áreas de mejora. | J38: Operativa
B39: 3
B41: Trimestre | C41: Frente | D41: Estrategia | E41: Meta | F41: Alta Dirección | G41: Área Responsable | H41: Tarea | I41: Descripción de la tarea | J41: Categoría de la tarea | K41: Entregable | L41: % Cumplimiento | M41: Observación de cumplimiento
B42: 4 | C42: Organización Social del Conocimiento y Aprendizaje Viva | D42: Modernizar la infraestructura tecnológica de la Universidad de Cundinamarca | E42: Certificar el sistema de seguridad y salud en el trabajo, sistema de gestión ambiental, antisoborno y EFR | F42: Secretaría General | G42: Dirección de Sistemas y Tecnología | H42: Presentar el tablero de control de Control de la Dirección de Sistemas y Tecnología | I42: Sustentar a los líderes de áreas de la Dirección de Sistemas y Tecnología la construcción y el resultados de los datos obtenidos en el tablero de control | J42: Estratégica
B43: 4 | C43: Organización Social del Conocimiento y Aprendizaje Viva | D43: Modernizar la infraestructura tecnológica de la Universidad de Cundinamarca | E43: Cumplimiento a la ejecución del plan presupuestario de la vigencia | F43: Secretaría General | G43: Dirección de Sistemas y Tecnología | H43: Seguimiento a la ejecución presupuestal de gastos de funcionamiento y proyectos de inversión | I43: Presentar informe ejecutivo del 100% de la ejecución presupuestal de acuerdo a la asignación de recursos de la Dirección de Sistemas y Tecnología | J43: Estratégica
B44: 4 | C44: Organización Social del Conocimiento y Aprendizaje Viva | D44: Modernizar la infraestructura tecnológica de la Universidad de Cundinamarca | E44: Lograr las certificaciones y/o sellos que posicionen a la Udec como una institución educativa competitiva. | F44: Secretaría General | G44: Dirección de Sistemas y Tecnología | H44: Informe de avance de la construcción y/o actualización de los tableros de control de la Ucundinamarca | I44: Informe semestral de avance al cronograma de análisis de datos | J44: Táctica
B45: 4 | C45: Organización Social del Conocimiento y Aprendizaje Viva | D45: Modernizar la infraestructura tecnológica de la Universidad de Cundinamarca | E45: Posicionar a la Udec como una institución educativa competitiva que obtenga un resultado por encima del promedio nacional de índice de desempeño institucional y control interno. | F45: Secretaría General | G45: Dirección de Sistemas y Tecnología | H45: Informe de avance de la puesta en marcha de los procesos de reingeniería y digitalización | I45: Informe trimestral del avance del cronograma de desarrollos de sistemas de información | J45: Táctica
B46: 4 | C46: Organización Social del Conocimiento y Aprendizaje Viva | D46: Modernizar la infraestructura tecnológica de la Universidad de Cundinamarca | E46: Posicionar a la Udec como una institución educativa competitiva que obtenga un resultado por encima del promedio nacional de índice de desempeño institucional y control interno. | F46: Secretaría General | G46: Dirección de Sistemas y Tecnología | H46: Presentar acciones implementadas para dar cumplimiento a las áreas de mejora identificadas en el diagnóstico realizadas a la infraestructura de red | I46: Informe ejecutivo en el cual se establezca la hoja de ruta a seguir para modernizar la infraestructura tecnológica | J46: Estratégica
B47: 4 | C47: Organización Social del Conocimiento y Aprendizaje Viva | D47: Modernizar la infraestructura tecnológica de la Universidad de Cundinamarca | E47: Posicionar a la Udec como una institución educativa competitiva que obtenga un resultado por encima del promedio nacional de índice de desempeño institucional y control interno. | F47: Secretaría General | G47: Dirección de Sistemas y Tecnología | H47: Presentar informe ejecutivo de las minutas adjudicadas por los proyectos priorizados vigencia 2024 - PETI | I47: Informe ejecutivo que de cuenta de los contratos suscritos con los recursos priorizados por parte del BUP y su estado actual | J47: Táctica
...

Sheet 1.4 
D2: MACROPROCESO ESTRATÉGICO | L2: CÓDIGO: EPIr049
D4: PROCESO GESTIÓN PLANEACIÓN INSTITUCIONAL | L4: VERSIÓN: 9
D6: PLAN DE ACCIÓN | L6: VIGENCIA: 2024-04-08
L7: PÁGINA: 7 de 58
C8: 13.
E9: # Acciones 1° Trimestre: | F9: 1 | G9: % Total | H9: de Cumplimiento 1° Trimestre: | I9: =(SUM(L$15:L$18))/F9 -> 0
C10: Área: | D10: =[1]Contenido!C18 -> Dirección de Proyectos Especiales y Relaciones Interinstitucionales | E10: # Acciones 2° Trimestre: | F10: 1 | G10: % Total | H10: de Cumplimiento 2° Trimestre: | I10: =(SUM(L$21:L$24))/F10 -> 0 | L10: Instrucciones para el diligenciamiento
E11: # Acciones 3° Trimestre: | F11: 1 | G11: % Total | H11: de Cumplimiento 3° Trimestre: | I11: =(SUM(L$27:L$31))/F11 -> 0
E12: # Acciones 4° Trimestre: | F12: 1 | G12: % Total | H12: de Cumplimiento 4° Trimestre: | I12: =(SUM(L$34:L$38))/F12 -> 0
